BEGIN:VCALENDAR
VERSION:2.0
PRODID:icalendar-ruby
CALSCALE:GREGORIAN
METHOD:PUBLISH
BEGIN:VEVENT
DTSTAMP:20260420T150250Z
UID:5-393785@bofcc.com
DTSTART:20261011T140000Z
DTEND:20261011T153000Z
CLASS:PUBLIC
CREATED:20260420T105403
DESCRIPTION:Sunday Worship
LAST-MODIFIED:20260420T105403
LOCATION:10 Stephens Street (The Church)
SUMMARY:Sunday Worship
URL;VALUE=URI:https://www.bofcc.com/events/sunday-worship/2026-10-11
END:VEVENT
END:VCALENDAR
