BEGIN:VCALENDAR
VERSION:2.0
PRODID:icalendar-ruby
CALSCALE:GREGORIAN
METHOD:PUBLISH
BEGIN:VEVENT
DTSTAMP:20260420T131845Z
UID:5-393529@bofcc.com
DTSTART:20261004T140000Z
DTEND:20261004T153000Z
CLASS:PUBLIC
CREATED:20260420T081938
DESCRIPTION:Sunday Worship
LAST-MODIFIED:20260420T081938
LOCATION:10 Stephens Street (The Church)
SUMMARY:Sunday Worship
URL;VALUE=URI:https://www.bofcc.com/events/sunday-worship/2026-10-04
END:VEVENT
END:VCALENDAR
