BEGIN:VCALENDAR
VERSION:2.0
PRODID:icalendar-ruby
CALSCALE:GREGORIAN
METHOD:PUBLISH
BEGIN:VEVENT
DTSTAMP:20260420T082543Z
UID:5-393271@bofcc.com
DTSTART:20260913T140000Z
DTEND:20260913T153000Z
CLASS:PUBLIC
CREATED:20260420T034156
DESCRIPTION:Sunday Worship
LAST-MODIFIED:20260420T034156
LOCATION:10 Stephens Street (The Church)
SUMMARY:Sunday Worship
URL;VALUE=URI:https://www.bofcc.com/events/sunday-worship/2026-09-13
END:VEVENT
END:VCALENDAR
